BEGIN:VCALENDAR
VERSION:2.0
PRODID:-//FX101.9 - ECPv4.6.26//NONSGML v1.0//EN
CALSCALE:GREGORIAN
METHOD:PUBLISH
X-WR-CALNAME:FX101.9
X-ORIGINAL-URL:https://fx1019.ca
X-WR-CALDESC:Events for FX101.9
BEGIN:VEVENT
DTSTART;TZID=America/Halifax:20180624T140000
DTEND;TZID=America/Halifax:20180624T160000
DTSTAMP:20260420T120050
CREATED:20180613T173058Z
LAST-MODIFIED:20180613T173058Z
UID:6402-1529848800-1529856000@fx1019.ca
SUMMARY:2018 Mural Unveiling
DESCRIPTION:2018 Mural Unveiling\nJune 24th\, 2018 2:00pm – 4:00 pm\nNorth Woodside Community Centre. 230 Pleasant Street\, Dartmouth\, NS \nJoin us on this momentous occasion as we unveil the new mural on the side of our Centre!\nRefreshments will be served.\n902-463-9276 \n
URL:https://fx1019.ca/event/2018-mural-unveiling/
END:VEVENT
END:VCALENDAR