BEGIN:VCALENDAR
VERSION:2.0
PRODID:-//FX101.9 - ECPv4.6.26//NONSGML v1.0//EN
CALSCALE:GREGORIAN
METHOD:PUBLISH
X-WR-CALNAME:FX101.9
X-ORIGINAL-URL:https://fx1019.ca
X-WR-CALDESC:Events for FX101.9
BEGIN:VEVENT
DTSTART;VALUE=DATE:20191004
DTEND;VALUE=DATE:20191005
DTSTAMP:20260425T193744
CREATED:20190506T003504Z
LAST-MODIFIED:20191001T205412Z
UID:8705-1570147200-1570233599@fx1019.ca
SUMMARY:The Shag Harbour UFO incident
DESCRIPTION:The Shag Harbour UFO incident was the reported impact of an unknown large object into waters near Shag Harbour\, a tiny fishing village in the Canadian province of Nova Scotia on October 4\, 1967. The reports were investigated by various civilian (Royal Canadian Mounted Police and Canadian Coast Guard) and military (Royal Canadian Navy and Royal Canadian Air Force) agencies of the Government of Canada and the U.S. Condon Committee. The Shag Harbour UFO incident is featured on a new commemorative coin “with sci-fi glow” that’s already 96 per cent sold. The release of the $20 silver coin will be celebrated at the opening night of the Shag Harbour UFO Festival\, happening Oct. 4 to 6\, to commemorate the 1967 event. \n \n
URL:https://fx1019.ca/event/2019-2020-nhl-regular-season-begins/
END:VEVENT
END:VCALENDAR