BEGIN:VCALENDAR
VERSION:2.0
PRODID:-//FX101.9 - ECPv4.6.26//NONSGML v1.0//EN
CALSCALE:GREGORIAN
METHOD:PUBLISH
X-WR-CALNAME:FX101.9
X-ORIGINAL-URL:https://fx1019.ca
X-WR-CALDESC:Events for FX101.9
BEGIN:VEVENT
DTSTART;TZID=America/Halifax:20230923T100000
DTEND;TZID=America/Halifax:20230923T140000
DTSTAMP:20260425T014549
CREATED:20230911T154941Z
LAST-MODIFIED:20230911T155350Z
UID:16310-1695463200-1695477600@fx1019.ca
SUMMARY:2nd Annual Bags of Love Craft and Vendor Market
DESCRIPTION:The 2nd Annual Bags of Love Market is happening!!! \nSeptember 23 from 10-2 at the South Shore Exhibition Main Building. Room for 70 vendors so it’s going to be a GREAT DAY!!! \nBBQ will be going during the event \n
URL:https://fx1019.ca/event/2nd-annual-bags-of-love-craft-and-vendor-market/
LOCATION:South Shore Exhibition Main Building
ATTACH;FMTTYPE=image/jpeg:https://fx1019.ca/wp-content/uploads/sites/3/2023/09/Bags-of-Love-3.jpg
END:VEVENT
END:VCALENDAR