BEGIN:VCALENDAR
VERSION:2.0
PRODID:-//FX101.9 - ECPv4.6.26//NONSGML v1.0//EN
CALSCALE:GREGORIAN
METHOD:PUBLISH
X-WR-CALNAME:FX101.9
X-ORIGINAL-URL:https://fx1019.ca
X-WR-CALDESC:Events for FX101.9
BEGIN:VEVENT
DTSTART;TZID=America/Halifax:20180623T100000
DTEND;TZID=America/Halifax:20180623T160000
DTSTAMP:20260422T213715
CREATED:20180613T173810Z
LAST-MODIFIED:20180613T175205Z
UID:6404-1529748000-1529769600@fx1019.ca
SUMMARY:Atlantic Canada Aviation Museum Family Fun Day
DESCRIPTION:Atlantic Canada Aviation Museum Family Fun Day\n20 Sky Blvd\, Goffs\, NS\ngames\, raffles\, and a free barbecue \n
URL:https://fx1019.ca/event/atlantic-canada-aviation-museum-family-fun-day/
END:VEVENT
END:VCALENDAR