BEGIN:VCALENDAR
VERSION:2.0
PRODID:-//FX101.9 - ECPv4.6.26//NONSGML v1.0//EN
CALSCALE:GREGORIAN
METHOD:PUBLISH
X-WR-CALNAME:FX101.9
X-ORIGINAL-URL:https://fx1019.ca
X-WR-CALDESC:Events for FX101.9
BEGIN:VEVENT
DTSTART;VALUE=DATE:20230909
DTEND;VALUE=DATE:20230910
DTSTAMP:20260421T084046
CREATED:20230718T141447Z
LAST-MODIFIED:20230831T123643Z
UID:16183-1694217600-1694303999@fx1019.ca
SUMMARY:Bats and Builders Ball Tournament
DESCRIPTION:Bats & Builders Ball Tournament is back! All proceeds go to support the YMCA Halifax Supportive Housing for Young Mothers (SHYM) \n
URL:https://fx1019.ca/event/bats-and-builders-ball-tournament/
LOCATION:Graves Oakley Field
ATTACH;FMTTYPE=image/png:https://fx1019.ca/wp-content/uploads/sites/3/2023/07/Bats-Builders-2021-2.png
END:VEVENT
END:VCALENDAR