BEGIN:VCALENDAR
VERSION:2.0
PRODID:-//FX101.9 - ECPv4.6.26//NONSGML v1.0//EN
CALSCALE:GREGORIAN
METHOD:PUBLISH
X-WR-CALNAME:FX101.9
X-ORIGINAL-URL:https://fx1019.ca
X-WR-CALDESC:Events for FX101.9
BEGIN:VEVENT
DTSTART;VALUE=DATE:20190604
DTEND;VALUE=DATE:20190605
DTSTAMP:20260423T101243
CREATED:20190524T005649Z
LAST-MODIFIED:20190524T005649Z
UID:8968-1559606400-1559692799@fx1019.ca
SUMMARY:Book Club
DESCRIPTION:Halifax Shopping Centre Book Club. \nWe’re launching a book club! Our June book is The Seven Husbands of Evelyn Hugo by Taylor Jenkins Reid. Mention the HSC Book Club to purchase at a discounted price. \nTue.\, Jun. 4\, 6:00 p.m. – 7:00 p.m. \nHalifax Shopping Centre\n7001 Mumford Rd Unit #722\, Halifax\, NS\n  \n  \n
URL:https://fx1019.ca/event/book-club/
END:VEVENT
END:VCALENDAR