BEGIN:VCALENDAR
VERSION:2.0
PRODID:-//FX101.9 - ECPv4.6.26//NONSGML v1.0//EN
CALSCALE:GREGORIAN
METHOD:PUBLISH
X-WR-CALNAME:FX101.9
X-ORIGINAL-URL:https://fx1019.ca
X-WR-CALDESC:Events for FX101.9
BEGIN:VEVENT
DTSTART;VALUE=DATE:20230718
DTEND;VALUE=DATE:20230724
DTSTAMP:20260421T115749
CREATED:20230705T130913Z
LAST-MODIFIED:20230705T130913Z
UID:16147-1689638400-1690156799@fx1019.ca
SUMMARY:Broadway Comes to Halifax - The Book Of Mormon
DESCRIPTION:The New York Times calls it “the best musical of this century.” The Washington Post says\, “It is the kind of evening that restores your faith in musicals.” And Entertainment Weekly says\, “Grade A: the funniest musical of all time.” Jimmy Fallon of The Tonight Show calls it “Genius. Brilliant. Phenomenal.” It’s THE BOOK OF MORMON\, the nine-time Tony Award®-winning Best Musical. Contains explicit language. For more information\, visit TheBookOfMormonTour.com. \n
URL:https://fx1019.ca/event/broadway-comes-to-halifax-the-book-of-mormon/
ATTACH;FMTTYPE=image/jpeg:https://fx1019.ca/wp-content/uploads/sites/3/2023/07/342192672_1288843118477000_5507066051680619309_n.jpg
END:VEVENT
END:VCALENDAR