BEGIN:VCALENDAR
VERSION:2.0
PRODID:-//FX101.9 - ECPv4.6.26//NONSGML v1.0//EN
CALSCALE:GREGORIAN
METHOD:PUBLISH
X-WR-CALNAME:FX101.9
X-ORIGINAL-URL:https://fx1019.ca
X-WR-CALDESC:Events for FX101.9
BEGIN:VEVENT
DTSTART;VALUE=DATE:20190310
DTEND;VALUE=DATE:20190311
DTSTAMP:20260421T133457
CREATED:20190306T141124Z
LAST-MODIFIED:20190306T141124Z
UID:8011-1552176000-1552262399@fx1019.ca
SUMMARY:Carrie Underwood turns 36
DESCRIPTION:
URL:https://fx1019.ca/event/carrie-underwood-turns-36/
END:VEVENT
END:VCALENDAR