BEGIN:VCALENDAR
VERSION:2.0
PRODID:-//FX101.9 - ECPv4.6.26//NONSGML v1.0//EN
CALSCALE:GREGORIAN
METHOD:PUBLISH
X-WR-CALNAME:FX101.9
X-ORIGINAL-URL:https://fx1019.ca
X-WR-CALDESC:Events for FX101.9
BEGIN:VEVENT
DTSTART;VALUE=DATE:20190707
DTEND;VALUE=DATE:20190708
DTSTAMP:20260420T140238
CREATED:20190502T154009Z
LAST-MODIFIED:20190502T154009Z
UID:8631-1562457600-1562543999@fx1019.ca
SUMMARY:Cavendish Beach Music Festival
DESCRIPTION:Sunday : Eric Church and more \n
URL:https://fx1019.ca/event/cavendish-beach-music-festival-4/
END:VEVENT
END:VCALENDAR