BEGIN:VCALENDAR
VERSION:2.0
PRODID:-//FX101.9 - ECPv4.6.26//NONSGML v1.0//EN
CALSCALE:GREGORIAN
METHOD:PUBLISH
X-WR-CALNAME:FX101.9
X-ORIGINAL-URL:https://fx1019.ca
X-WR-CALDESC:Events for FX101.9
BEGIN:VEVENT
DTSTART;VALUE=DATE:20181116
DTEND;VALUE=DATE:20181117
DTSTAMP:20260422T211010
CREATED:20181102T121114Z
LAST-MODIFIED:20181102T121114Z
UID:7278-1542326400-1542412799@fx1019.ca
SUMMARY:Christmas Crawl Festival
DESCRIPTION:Christmas Crawl Festival  –  This is an annual festival that strings together holiday events to sip\, savour\, shop and craft all along the South Shore. Drop in for the day\, or enjoy a festive-infused stay-cation – either way don’t forget to choose and cut your balsam fir Christmas Tree to take home!   Where: All along the South Shore of Nova Scotia in communities like St. Margaret’s Bay\, Hubbards\, Chester\, Lunenburg\, Mahone Bay\, Bridgewater\, New Ross\, Liverpool\, Shelburne\, Barrington\, Lockeport etc.   ChristmasCrawl.ca  \n
URL:https://fx1019.ca/event/christmas-crawl-festival/
END:VEVENT
END:VCALENDAR