BEGIN:VCALENDAR
VERSION:2.0
PRODID:-//FX101.9 - ECPv4.6.26//NONSGML v1.0//EN
CALSCALE:GREGORIAN
METHOD:PUBLISH
X-WR-CALNAME:FX101.9
X-ORIGINAL-URL:https://fx1019.ca
X-WR-CALDESC:Events for FX101.9
BEGIN:VEVENT
DTSTART;VALUE=DATE:20171201
DTEND;VALUE=DATE:20171204
DTSTAMP:20260420T101257
CREATED:20171017T165029Z
LAST-MODIFIED:20171017T165029Z
UID:5894-1512086400-1512345599@fx1019.ca
SUMMARY:Christmas Festival of Trees and Crafts 2017
DESCRIPTION:Christmas Festival of Trees & Crafts 2017 – December 1\, 2 & 3\nNatural Resources/Musquodoboit Valley Education Centres\,\n12014/12046 Hwy 224\, Middle Musquodoboit NS\nFriday\, December 1\, 6-8:30pm – Tree Lighting & Musical Entertainment\nSaturday\, December 2\, 10am-4pm – Trees & Craft Sale\nSunday\, December 3\, 11am-4pm – Trees & Craft Sale\nAdmission – Craft Sale $2.00;\nTrees Display-donation of non-perishable goods for local food bank\nInformation: Trees – nrec@gov.ns.ca; 902-384-3420; www.gov.ns.ca/natr/education/nrec/\nCraft Sale – suemillercfc@gmail.com; 902-384-2690; Facebook @ Christmas Festival of Crafts; www.christmasfestivalofcrafts.wordpress.com \n
URL:https://fx1019.ca/event/christmas-festival-of-trees-and-crafts-2017/
END:VEVENT
END:VCALENDAR