BEGIN:VCALENDAR
VERSION:2.0
PRODID:-//FX101.9 - ECPv4.6.26//NONSGML v1.0//EN
CALSCALE:GREGORIAN
METHOD:PUBLISH
X-WR-CALNAME:FX101.9
X-ORIGINAL-URL:https://fx1019.ca
X-WR-CALDESC:Events for FX101.9
BEGIN:VEVENT
DTSTART;TZID=America/Halifax:20190418T193000
DTEND;TZID=America/Halifax:20190418T233000
DTSTAMP:20260420T135442
CREATED:20190410T135713Z
LAST-MODIFIED:20190410T135713Z
UID:8373-1555615800-1555630200@fx1019.ca
SUMMARY:Country Boot Stomps Cancer Tour 2019 - Clay West Bar & Grill
DESCRIPTION:PRO STARS HOCKEY TOURS PRESENTS\nCountry Boot Stomps Cancer Tour 2019\nFeaturing: Aaron Pritchett & Tj King w/ Pro Stars House Band. \nHe’s Back and It’s our annual fundraiser In Support of the Cancer Care Unit at the QEII Foundation In Memory of our dear friend and hockey family member Rob Sneath. \nCancer continues to affect many of our family\, friends and community members and we want to do our part in eradicating this disease and help others. \nIf you didn’t catch Aaron on his cross Canada Tour “Out On The Town” here is your chance. Join us for a great night of entertainment\, music and support this worthwhile cause featuring local country artist – TJ King\, Pro Stars House Band – Shaky White\, Michael Lloyd\, Chris Pottie and our Special Guest Canadian Country Superstar Aaron Pritchett. \nDOORS OPEN 7:30PM\nSHOW STARTS AT 9:00PM \nAdvance Tickets $28 – until April 13th- $28\nTickets After Advance Date & At The Door – $35\nALSO AVAILABLE VIA EMAIL TRANSFER – tickets@countrybootstompscancer.ca \n\nFor Info call Pro Stars Hockey Tours (902) 499-2377\n
URL:https://fx1019.ca/event/country-boot-stomps-cancer-tour-2019-clay-west-bar-grill/
ATTACH;FMTTYPE=image/jpeg:https://fx1019.ca/wp-content/uploads/sites/3/2019/04/53279140_2057718041011287_8599119594310860800_n.jpg
END:VEVENT
END:VCALENDAR