BEGIN:VCALENDAR
VERSION:2.0
PRODID:-//FX101.9 - ECPv4.6.26//NONSGML v1.0//EN
CALSCALE:GREGORIAN
METHOD:PUBLISH
X-WR-CALNAME:FX101.9
X-ORIGINAL-URL:https://fx1019.ca
X-WR-CALDESC:Events for FX101.9
BEGIN:VEVENT
DTSTART;TZID=America/Halifax:20190106T120000
DTEND;TZID=America/Halifax:20190106T160000
DTSTAMP:20260421T110327
CREATED:20181219T184712Z
LAST-MODIFIED:20181219T184712Z
UID:7631-1546776000-1546790400@fx1019.ca
SUMMARY:Crib Tournament
DESCRIPTION:Crib Tournament –Sunday\, Jan. 6th\nForties Community Centre\,New Ross\nDoors open 12 noon\,Registration starts 12:30\,Play starts 1pm\n$ 20.00 team Information call 689-2147\nCanteen Available\, wheelchair accessible Ground level \n
URL:https://fx1019.ca/event/crib-tournament-5/
END:VEVENT
END:VCALENDAR