BEGIN:VCALENDAR
VERSION:2.0
PRODID:-//FX101.9 - ECPv4.6.26//NONSGML v1.0//EN
CALSCALE:GREGORIAN
METHOD:PUBLISH
X-WR-CALNAME:FX101.9
X-ORIGINAL-URL:https://fx1019.ca
X-WR-CALDESC:Events for FX101.9
BEGIN:VEVENT
DTSTART;VALUE=DATE:20190106
DTEND;VALUE=DATE:20190107
DTSTAMP:20260421T075834
CREATED:20181231T173807Z
LAST-MODIFIED:20181231T173807Z
UID:7649-1546732800-1546819199@fx1019.ca
SUMMARY:Crib Tournament
DESCRIPTION:Crib Tournament Sunday\, Jan. 6th Forties Community Centre New Ross Doors open 12 noon Registration starts 12:30 Play starts 1pm $ 20.00 team Information call 689-2147 Canteen Available\, wheelchair accessible Ground level \n
URL:https://fx1019.ca/event/crib-tournament-6/
END:VEVENT
END:VCALENDAR