BEGIN:VCALENDAR
VERSION:2.0
PRODID:-//FX101.9 - ECPv4.6.26//NONSGML v1.0//EN
CALSCALE:GREGORIAN
METHOD:PUBLISH
X-WR-CALNAME:FX101.9
X-ORIGINAL-URL:https://fx1019.ca
X-WR-CALDESC:Events for FX101.9
BEGIN:VEVENT
DTSTART;VALUE=DATE:20190805
DTEND;VALUE=DATE:20190806
DTSTAMP:20260420T120024
CREATED:20190725T214639Z
LAST-MODIFIED:20190725T214655Z
UID:9610-1564963200-1565049599@fx1019.ca
SUMMARY:Dingle Beach Party
DESCRIPTION:12th Annual Dingle Natal Day Beach Party\nMonday\, August 5\, 2019\n1 – 4 p.m.\nThe Dingle\, Fleming Park\nFree beach party with live music\, games and activities – rain or shine! \nJoin us for DJ music\, bouncy castles\, a mermaid show\, and live cirques show by Atlantic Cirque. Plus\, a special visit from Elmo and Cookie Monster! \n
URL:https://fx1019.ca/event/dingle-beach-party/
END:VEVENT
END:VCALENDAR