BEGIN:VCALENDAR
VERSION:2.0
PRODID:-//FX101.9 - ECPv4.6.26//NONSGML v1.0//EN
CALSCALE:GREGORIAN
METHOD:PUBLISH
X-WR-CALNAME:FX101.9
X-ORIGINAL-URL:https://fx1019.ca
X-WR-CALDESC:Events for FX101.9
BEGIN:VEVENT
DTSTART;VALUE=DATE:20250131
DTEND;VALUE=DATE:20250203
DTSTAMP:20260420T135403
CREATED:20250102T185535Z
LAST-MODIFIED:20250102T185535Z
UID:17739-1738281600-1738540799@fx1019.ca
SUMMARY:Downtown Dartmouth Ice Festival
DESCRIPTION:Join us for a winter celebration! Enjoy live ice carving\, live entertainment\, a street party\, and so much more. \n
URL:https://fx1019.ca/event/downtown-dartmouth-ice-festival/
ATTACH;FMTTYPE=image/jpeg:https://fx1019.ca/wp-content/uploads/sites/3/2025/01/6ce647_091da3721b2e4a15a31a82776ce455damv2.jpg
END:VEVENT
END:VCALENDAR