BEGIN:VCALENDAR
VERSION:2.0
PRODID:-//FX101.9 - ECPv4.6.26//NONSGML v1.0//EN
CALSCALE:GREGORIAN
METHOD:PUBLISH
X-WR-CALNAME:FX101.9
X-ORIGINAL-URL:https://fx1019.ca
X-WR-CALDESC:Events for FX101.9
BEGIN:VEVENT
DTSTART;VALUE=DATE:20190706
DTEND;VALUE=DATE:20190707
DTSTAMP:20260420T135311
CREATED:20190502T221842Z
LAST-MODIFIED:20190502T221842Z
UID:8658-1562371200-1562457599@fx1019.ca
SUMMARY:East Coast Kite Festival
DESCRIPTION:July 6 (10 am-8 pm) \nHalifax Citadel National Historic Site \n“Fly as high as you can” \nCome and Enjoy our Third annual kite festival at Citadel Hill in July 2019. It’s a Non-alcoholic\, Family and Kids friendly event with FREE ENTRY..!!.. \n
URL:https://fx1019.ca/event/east-coast-kite-festival/
END:VEVENT
END:VCALENDAR