BEGIN:VCALENDAR
VERSION:2.0
PRODID:-//FX101.9 - ECPv4.6.26//NONSGML v1.0//EN
CALSCALE:GREGORIAN
METHOD:PUBLISH
X-WR-CALNAME:FX101.9
X-ORIGINAL-URL:https://fx1019.ca
X-WR-CALDESC:Events for FX101.9
BEGIN:VEVENT
DTSTART;VALUE=DATE:20230408
DTEND;VALUE=DATE:20230409
DTSTAMP:20260421T102439
CREATED:20230328T191749Z
LAST-MODIFIED:20230328T191749Z
UID:15835-1680912000-1680998399@fx1019.ca
SUMMARY:East Hants Ground Search and Rescue Annual Easter Egg Hunt
DESCRIPTION:Save the date and get your egg-gathering skills ready. The Easter Bunny has confirmed that on April 8th they will be bringing thousands of chocolate eggs to the amazing children in the community.  \nJoin the easter bunny at the Lino’s Den\, Enfield and hunt for over 10\,000 chocolate eggs. \nGates open at 9 am. Egg hunt times are 10:30 am and 1 pm. New this year: Sensory Hunt at 12pm. \nCome early and bring a basket! \n
URL:https://fx1019.ca/event/east-hants-ground-search-and-rescue-annual-easter-egg-hunt/
LOCATION:Lion’s Den\, Enfield
ATTACH;FMTTYPE=image/jpeg:https://fx1019.ca/wp-content/uploads/sites/3/2023/03/easter-poster.jpg
END:VEVENT
END:VCALENDAR