BEGIN:VCALENDAR
VERSION:2.0
PRODID:-//FX101.9 - ECPv4.6.26//NONSGML v1.0//EN
CALSCALE:GREGORIAN
METHOD:PUBLISH
X-WR-CALNAME:FX101.9
X-ORIGINAL-URL:https://fx1019.ca
X-WR-CALDESC:Events for FX101.9
BEGIN:VEVENT
DTSTART;TZID=America/Halifax:20180618T193000
DTEND;TZID=America/Halifax:20180618T210000
DTSTAMP:20260421T114807
CREATED:20180613T171036Z
LAST-MODIFIED:20180613T171327Z
UID:6393-1529350200-1529355600@fx1019.ca
SUMMARY:Family Guy Trivia Night
DESCRIPTION:at the Pint Public House \n
URL:https://fx1019.ca/event/family-guy-trivia-night/
END:VEVENT
END:VCALENDAR