BEGIN:VCALENDAR
VERSION:2.0
PRODID:-//FX101.9 - ECPv4.6.26//NONSGML v1.0//EN
CALSCALE:GREGORIAN
METHOD:PUBLISH
X-WR-CALNAME:FX101.9
X-ORIGINAL-URL:https://fx1019.ca
X-WR-CALDESC:Events for FX101.9
BEGIN:VEVENT
DTSTART;TZID=America/Halifax:20170618T130000
DTEND;TZID=America/Halifax:20170618T150000
DTSTAMP:20260420T061847
CREATED:20170602T164213Z
LAST-MODIFIED:20170602T164213Z
UID:4811-1497790800-1497798000@fx1019.ca
SUMMARY:Father's Day Spaghetti Dinner
DESCRIPTION:There will be a Father’s Day Spaghetti Dinner Fundraiser in support of the Freedom Foundation of Nova Scotia\, which is a transition house for men recovering from addiction. This event will be held at the North Dartmouth Community Centre at 105 Highfield Park Dr\, Dartmouth\, NS in the Multipurpose room from 1 till 3pm on June 18\, 2017. There will be music (live band)\, door prizes and plenty of food. Tickets are 10 dollars per meal. To reserve your ticket please call the freedom Foundation at 902-466-0299. Thank you in advance for your support. Bruce Savage Freedom Foundation of Nova Scotia 902-466-0299 bruce.savage@freedomfoundation.ca \n
URL:https://fx1019.ca/event/fathers-day-spaghetti-dinner/
END:VEVENT
END:VCALENDAR