BEGIN:VCALENDAR
VERSION:2.0
PRODID:-//FX101.9 - ECPv4.6.26//NONSGML v1.0//EN
CALSCALE:GREGORIAN
METHOD:PUBLISH
X-WR-CALNAME:FX101.9
X-ORIGINAL-URL:https://fx1019.ca
X-WR-CALDESC:Events for FX101.9
BEGIN:VEVENT
DTSTART;TZID=America/Halifax:20170325T160000
DTEND;TZID=America/Halifax:20170325T180000
DTSTAMP:20260420T120025
CREATED:20170308T125420Z
LAST-MODIFIED:20170308T125420Z
UID:4096-1490457600-1490464800@fx1019.ca
SUMMARY:Fish & Corn Chowder Supper
DESCRIPTION:Saturday\, March 25 4-6 pm \, St James Anglican Church is having a Fish or Corn Chowder Supper. Fish or Corn chowder\, rolls\, homemade desserts. Cost is $12 for adult\, child 10 and under free.\nHot dog meals available for $4. Takeout is also available. Location is St James Anglican Church\, 6023 Highway 207\, Seaforth. \n
URL:https://fx1019.ca/event/fish-corn-chowder-supper/
END:VEVENT
END:VCALENDAR