BEGIN:VCALENDAR
VERSION:2.0
PRODID:-//FX101.9 - ECPv4.6.26//NONSGML v1.0//EN
CALSCALE:GREGORIAN
METHOD:PUBLISH
X-WR-CALNAME:FX101.9
X-ORIGINAL-URL:https://fx1019.ca
X-WR-CALDESC:Events for FX101.9
BEGIN:VEVENT
DTSTART;VALUE=DATE:20190329
DTEND;VALUE=DATE:20190330
DTSTAMP:20260424T121642
CREATED:20190306T191727Z
LAST-MODIFIED:20190306T191727Z
UID:8053-1553817600-1553903999@fx1019.ca
SUMMARY:George Strait - Honky Tonk Time Machine album release
DESCRIPTION:
URL:https://fx1019.ca/event/george-strait-honky-tonk-time-machine-album-release/
END:VEVENT
END:VCALENDAR