BEGIN:VCALENDAR
VERSION:2.0
PRODID:-//FX101.9 - ECPv4.6.26//NONSGML v1.0//EN
CALSCALE:GREGORIAN
METHOD:PUBLISH
X-WR-CALNAME:FX101.9
X-ORIGINAL-URL:https://fx1019.ca
X-WR-CALDESC:Events for FX101.9
BEGIN:VEVENT
DTSTART;VALUE=DATE:20190518
DTEND;VALUE=DATE:20190519
DTSTAMP:20260419T133701
CREATED:20190405T190611Z
LAST-MODIFIED:20190405T190611Z
UID:8333-1558137600-1558223999@fx1019.ca
SUMMARY:George Strait's birthday
DESCRIPTION:
URL:https://fx1019.ca/event/george-straits-birthday/
END:VEVENT
END:VCALENDAR