BEGIN:VCALENDAR
VERSION:2.0
PRODID:-//FX101.9 - ECPv4.6.26//NONSGML v1.0//EN
CALSCALE:GREGORIAN
METHOD:PUBLISH
X-WR-CALNAME:FX101.9
X-ORIGINAL-URL:https://fx1019.ca
X-WR-CALDESC:Events for FX101.9
BEGIN:VEVENT
DTSTART;VALUE=DATE:20190702
DTEND;VALUE=DATE:20190703
DTSTAMP:20260420T135009
CREATED:20190530T004121Z
LAST-MODIFIED:20190530T004121Z
UID:9086-1562025600-1562111999@fx1019.ca
SUMMARY:Gordie Sampson performs
DESCRIPTION:Gordie Sampson @ The Carleton Tuesday July 2nd @ 7:30 pm. \nGordie celebrates his birthday three weeks after this show. \nGordie  (a good Cape Breton boy) has written and co-written some of the biggest country songs of the last 15 years. For example : \n“Knockin’ Boots” Luke Bryan \n“Dear Drunk Me” Chad Brownlee \n“God\, Your Mama\, and Me” – Florida Georgia Line ft. Backstreet Boys \n“Jesus\, Take the Wheel” Carrie Underwood\, \n“The Hard Way” Keith Urban \nand dozens more. \n
URL:https://fx1019.ca/event/gordie-sampson-performs/
END:VEVENT
END:VCALENDAR