BEGIN:VCALENDAR
VERSION:2.0
PRODID:-//FX101.9 - ECPv4.6.26//NONSGML v1.0//EN
CALSCALE:GREGORIAN
METHOD:PUBLISH
X-WR-CALNAME:FX101.9
X-ORIGINAL-URL:https://fx1019.ca
X-WR-CALDESC:Events for FX101.9
BEGIN:VEVENT
DTSTART;VALUE=DATE:20190713
DTEND;VALUE=DATE:20190714
DTSTAMP:20260421T133334
CREATED:20190711T215909Z
LAST-MODIFIED:20190711T215909Z
UID:9527-1562976000-1563062399@fx1019.ca
SUMMARY:Halifax Citadel Ghost Tour
DESCRIPTION:Sat.\, Jul. 13\, 8:30 p.m. – 9:30 p.m. \nHalifax Citadel National Historic Site. \n\n\n\n5425 Sackville St\, Halifax\, NS\n\n\nClimb to the top of The Halifax Citadel National Historic Site and meet your historically costumed guide on the drawbridge at the main gate. For 70 minutes\, you’ll be led by candlelight through tunnels\, prison cells\, and restricted areas of Canada’s most haunted historic site\, to hear true accounts of unexplained events in their actual locations.\n\n\n
URL:https://fx1019.ca/event/halifax-citadel-ghost-tour/
END:VEVENT
END:VCALENDAR