BEGIN:VCALENDAR
VERSION:2.0
PRODID:-//FX101.9 - ECPv4.6.26//NONSGML v1.0//EN
CALSCALE:GREGORIAN
METHOD:PUBLISH
X-WR-CALNAME:FX101.9
X-ORIGINAL-URL:https://fx1019.ca
X-WR-CALDESC:Events for FX101.9
BEGIN:VEVENT
DTSTART;VALUE=DATE:20190822
DTEND;VALUE=DATE:20190823
DTSTAMP:20260420T135243
CREATED:20190817T004415Z
LAST-MODIFIED:20190817T004415Z
UID:9753-1566432000-1566518399@fx1019.ca
SUMMARY:Halifax Mooseheads Pre-Season
DESCRIPTION:Thursday\, August 22 \nSaint John in town to play Halifax (7 pm) RBC Centre in Dartmouth \n
URL:https://fx1019.ca/event/halifax-mooseheads-pre-season/
END:VEVENT
END:VCALENDAR