BEGIN:VCALENDAR
VERSION:2.0
PRODID:-//FX101.9 - ECPv4.6.26//NONSGML v1.0//EN
CALSCALE:GREGORIAN
METHOD:PUBLISH
X-WR-CALNAME:FX101.9
X-ORIGINAL-URL:https://fx1019.ca
X-WR-CALDESC:Events for FX101.9
BEGIN:VEVENT
DTSTART;VALUE=DATE:20191031
DTEND;VALUE=DATE:20191101
DTSTAMP:20260421T115309
CREATED:20190502T112749Z
LAST-MODIFIED:20190609T002602Z
UID:8613-1572480000-1572566399@fx1019.ca
SUMMARY:Halloween
DESCRIPTION: \n
URL:https://fx1019.ca/event/halloween/
END:VEVENT
END:VCALENDAR