BEGIN:VCALENDAR
VERSION:2.0
PRODID:-//FX101.9 - ECPv4.6.26//NONSGML v1.0//EN
CALSCALE:GREGORIAN
METHOD:PUBLISH
X-WR-CALNAME:FX101.9
X-ORIGINAL-URL:https://fx1019.ca
X-WR-CALDESC:Events for FX101.9
BEGIN:VEVENT
DTSTART;TZID=America/Halifax:20170513T140000
DTEND;TZID=America/Halifax:20170513T180000
DTSTAMP:20260421T041501
CREATED:20170403T175918Z
LAST-MODIFIED:20170403T175918Z
UID:4297-1494684000-1494698400@fx1019.ca
SUMMARY:Hammonds Plains Mother's Day/Spring Vendor Show
DESCRIPTION:Free Admission- \n?Welcome Spring !!? \nCome join us at the HP Community Hall for your One Stop Shop for Mother’s Day/Spring Vendor Show!! \nLet us help you show your Mom just how much she is appreciated by getting her something she will LOVE? \nSome tables will include: \nScentsy\nJK Leggings\nMonat\nYounique\nStella & Dot\nThirty-One Bags\nSteeped Tea\nEpicure\nForever Living\nHome-made Soaps and Bath Bombs\nHome-made Wreaths\nPruvit\nBaked Goods\nPlants\, Veg. & Herb Seedlings\nJamberry Nails\nNorwex\nPhotography \n… and more ❤️ \nAlso we have some amazing stuff for kids as well including Usborne Books\,and a kids corner ? \nFeaturing Local Businesses and Artisans in our own neighbourhood. \nAll Business Tables have been booked/confirmed ! \n
URL:https://fx1019.ca/event/hammonds-plains-mothers-dayspring-vendor-show/
END:VEVENT
END:VCALENDAR