BEGIN:VCALENDAR
VERSION:2.0
PRODID:-//FX101.9 - ECPv4.6.26//NONSGML v1.0//EN
CALSCALE:GREGORIAN
METHOD:PUBLISH
X-WR-CALNAME:FX101.9
X-ORIGINAL-URL:https://fx1019.ca
X-WR-CALDESC:Events for FX101.9
BEGIN:VEVENT
DTSTART;VALUE=DATE:20200119
DTEND;VALUE=DATE:20200120
DTSTAMP:20260420T120348
CREATED:20200106T145624Z
LAST-MODIFIED:20200106T145624Z
UID:10749-1579392000-1579478399@fx1019.ca
SUMMARY:Happy Birthday Dolly Parton!
DESCRIPTION:Born 1946! \n
URL:https://fx1019.ca/event/happy-birthday-dolly-parton/
END:VEVENT
END:VCALENDAR