BEGIN:VCALENDAR
VERSION:2.0
PRODID:-//FX101.9 - ECPv4.6.26//NONSGML v1.0//EN
CALSCALE:GREGORIAN
METHOD:PUBLISH
X-WR-CALNAME:FX101.9
X-ORIGINAL-URL:https://fx1019.ca
X-WR-CALDESC:Events for FX101.9
BEGIN:VEVENT
DTSTART;TZID=America/Halifax:20230527T120000
DTEND;TZID=America/Halifax:20230527T160000
DTSTAMP:20260421T084208
CREATED:20230417T114943Z
LAST-MODIFIED:20230419T163850Z
UID:15879-1685188800-1685203200@fx1019.ca
SUMMARY:HFX Tire & Oil Motorcycle Show & Fundraiser
DESCRIPTION:First annual charity motorcycle show for Big Brothers Big Sisters. \nAll BIKES are welcome. Prize categories will include: Best Custom Build/Best Sports/Best Cruiser/Highest Mileage/Best Paint/Best 3W/Fan Favourite and more!!! \nBBQ\, Live Music with Riptide\, Poker Run\, 50/50\, Raffle and so much more. \nRegister your BIKE today by texting 902-670-2735. \nAdmission is free. Donations are welcome.  \n
URL:https://fx1019.ca/event/hfx-tire-oil-motorcycle-show-fundraiser/
ATTACH;FMTTYPE=image/jpeg:https://fx1019.ca/wp-content/uploads/sites/3/2023/04/bike-show.jpg
END:VEVENT
END:VCALENDAR