BEGIN:VCALENDAR
VERSION:2.0
PRODID:-//FX101.9 - ECPv4.6.26//NONSGML v1.0//EN
CALSCALE:GREGORIAN
METHOD:PUBLISH
X-WR-CALNAME:FX101.9
X-ORIGINAL-URL:https://fx1019.ca
X-WR-CALDESC:Events for FX101.9
BEGIN:VEVENT
DTSTART;VALUE=DATE:20190410
DTEND;VALUE=DATE:20190411
DTSTAMP:20260421T084050
CREATED:20190306T193437Z
LAST-MODIFIED:20190306T193437Z
UID:8084-1554854400-1554940799@fx1019.ca
SUMMARY:International Day of Pink
DESCRIPTION:
URL:https://fx1019.ca/event/international-day-of-pink/
END:VEVENT
END:VCALENDAR