BEGIN:VCALENDAR
VERSION:2.0
PRODID:-//FX101.9 - ECPv4.6.26//NONSGML v1.0//EN
CALSCALE:GREGORIAN
METHOD:PUBLISH
X-WR-CALNAME:FX101.9
X-ORIGINAL-URL:https://fx1019.ca
X-WR-CALDESC:Events for FX101.9
BEGIN:VEVENT
DTSTART;TZID=America/Halifax:20230325T190000
DTEND;TZID=America/Halifax:20230325T190000
DTSTAMP:20260421T120035
CREATED:20230210T174254Z
LAST-MODIFIED:20230210T174833Z
UID:15732-1679770800-1679770800@fx1019.ca
SUMMARY:International Fly Fishing Film Festival
DESCRIPTION:Host: Nova Scotia Salmon Association \nTickets will be available at Fishing Fever Tackle Shop\, Patagonia Halifax\, Maritime Broadcasting\, Nova Scotia Salmon Association Office and if available\, at the door on the day of the event. \nFor questions about the event email brent.locke@nssalmon.ca or for questions about IF4™ email info@flyfilmfest.com. \nProudly presented by FX101.9 \n
URL:https://fx1019.ca/event/international-fly-fishing-film-festival/
LOCATION:Paul O’Regan Hall
ATTACH;FMTTYPE=image/jpeg:https://fx1019.ca/wp-content/uploads/sites/3/2023/02/if4.jpg
END:VEVENT
END:VCALENDAR