BEGIN:VCALENDAR
VERSION:2.0
PRODID:-//FX101.9 - ECPv4.6.26//NONSGML v1.0//EN
CALSCALE:GREGORIAN
METHOD:PUBLISH
X-WR-CALNAME:FX101.9
X-ORIGINAL-URL:https://fx1019.ca
X-WR-CALDESC:Events for FX101.9
BEGIN:VEVENT
DTSTART;VALUE=DATE:20190308
DTEND;VALUE=DATE:20190309
DTSTAMP:20260421T115535
CREATED:20190306T140812Z
LAST-MODIFIED:20190306T140812Z
UID:8007-1552003200-1552089599@fx1019.ca
SUMMARY:International Womens Day
DESCRIPTION:
URL:https://fx1019.ca/event/international-womens-day/
END:VEVENT
END:VCALENDAR