BEGIN:VCALENDAR
VERSION:2.0
PRODID:-//FX101.9 - ECPv4.6.26//NONSGML v1.0//EN
CALSCALE:GREGORIAN
METHOD:PUBLISH
X-WR-CALNAME:FX101.9
X-ORIGINAL-URL:https://fx1019.ca
X-WR-CALDESC:Events for FX101.9
BEGIN:VEVENT
DTSTART;VALUE=DATE:20190906
DTEND;VALUE=DATE:20190907
DTSTAMP:20260423T120018
CREATED:20190501T184457Z
LAST-MODIFIED:20190501T184457Z
UID:8560-1567728000-1567814399@fx1019.ca
SUMMARY:IT Chapter 2 in theaters
DESCRIPTION:
URL:https://fx1019.ca/event/it-chapter-2-in-theaters/
END:VEVENT
END:VCALENDAR