BEGIN:VCALENDAR
VERSION:2.0
PRODID:-//FX101.9 - ECPv4.6.26//NONSGML v1.0//EN
CALSCALE:GREGORIAN
METHOD:PUBLISH
X-WR-CALNAME:FX101.9
X-ORIGINAL-URL:https://fx1019.ca
X-WR-CALDESC:Events for FX101.9
BEGIN:VEVENT
DTSTART;TZID=America/Halifax:20170908T170000
DTEND;TZID=America/Halifax:20170910T200000
DTSTAMP:20260423T102825
CREATED:20170823T171941Z
LAST-MODIFIED:20170823T171941Z
UID:5511-1504890000-1505073600@fx1019.ca
SUMMARY:Italian Weekend Festival
DESCRIPTION:The Italian Canadian Cultural Association of Nova Scotia (ICCA) will once again host hundreds of members of the community for its annual three-day Italian Weekend Festival on September 8 – 10\, 2017. \nJam-packed with authentic Italian cuisine and music\, along with Italian cooking and language classes\, “Italian Weekend” delivers Rome to Halifax in a three-day experience of Italy that the entire family can enjoy! \nAttendees will have the opportunity to enjoy films\, wine tasting\, games and face-painting for the children\, as well as the ever-popular Pesca game!! \nRun by volunteers\, the ICCA has become the city’s ‘Little Italy’ creating a space for Italian-Canadians to congregate\, along with many others who want to experience “La Bella Vita!”. \nMore than 200 volunteers spearhead this event every year. An event that was created by past generations that continues to be appreciated by the youth of today. \nWe welcome all members of the community to enjoy a weekend in Italy at the ICCA’s Italian Weekend Festival! \nItalian Canadian Cultural Association of Nova Scotia\n2629 Agricola Street\n902-453-5327\nhttp://www.iccans.org \nFriday\, Sept 8th\, 5-10pm | Saturday\, Sept 9th\, 11am-10pm | Sunday\, Sept 10th\, 11am-8pm \n$2 Entry \n
URL:https://fx1019.ca/event/italian-weekend-festival/
END:VEVENT
END:VCALENDAR