BEGIN:VCALENDAR
VERSION:2.0
PRODID:-//FX101.9 - ECPv4.6.26//NONSGML v1.0//EN
CALSCALE:GREGORIAN
METHOD:PUBLISH
X-WR-CALNAME:FX101.9
X-ORIGINAL-URL:https://fx1019.ca
X-WR-CALDESC:Events for FX101.9
BEGIN:VEVENT
DTSTART;VALUE=DATE:20190522
DTEND;VALUE=DATE:20190523
DTSTAMP:20260419T150920
CREATED:20190508T224934Z
LAST-MODIFIED:20190508T224934Z
UID:8770-1558483200-1558569599@fx1019.ca
SUMMARY:Jimmy Kimmel to remake two classic shows
DESCRIPTION:May 22 @ 9 pm \n90 minute special on ABC \nJimmy Kimmel presents a live TV event in tribute to “All In The Family” and “The Jeffersons” \n
URL:https://fx1019.ca/event/jimmy-kimmel-to-remake-two-classic-shows/
END:VEVENT
END:VCALENDAR