BEGIN:VCALENDAR
VERSION:2.0
PRODID:-//FX101.9 - ECPv4.6.26//NONSGML v1.0//EN
CALSCALE:GREGORIAN
METHOD:PUBLISH
X-WR-CALNAME:FX101.9
X-ORIGINAL-URL:https://fx1019.ca
X-WR-CALDESC:Events for FX101.9
BEGIN:VEVENT
DTSTART;VALUE=DATE:20190706
DTEND;VALUE=DATE:20190707
DTSTAMP:20260420T135400
CREATED:20190706T094317Z
LAST-MODIFIED:20190706T094317Z
UID:9488-1562371200-1562457599@fx1019.ca
SUMMARY:Keji National Park Seaside will reopen today
DESCRIPTION:Kejimkujik National Park Seaside will reopen to visitors on Saturday\, July 6. \nThe popular South Shore hiking spot was closed off for a week due to an increase in black bear activity\, which is not unusual this time of year. \n
URL:https://fx1019.ca/event/keji-national-park-seaside-will-reopen-today/
END:VEVENT
END:VCALENDAR