BEGIN:VCALENDAR
VERSION:2.0
PRODID:-//FX101.9 - ECPv4.6.26//NONSGML v1.0//EN
CALSCALE:GREGORIAN
METHOD:PUBLISH
X-WR-CALNAME:FX101.9
X-ORIGINAL-URL:https://fx1019.ca
X-WR-CALDESC:Events for FX101.9
BEGIN:VEVENT
DTSTART;VALUE=DATE:20191125
DTEND;VALUE=DATE:20191126
DTSTAMP:20260423T115552
CREATED:20191120T231224Z
LAST-MODIFIED:20191120T231224Z
UID:10476-1574640000-1574726399@fx1019.ca
SUMMARY:Ken Dryden in Halifax
DESCRIPTION:November 25th \nAuthor’s Stage: Ken Dryden\n\n\n Hosted by Halifax Central Library (6:30 pm- 8:30 pm)\n\n\nJoin us in conversation with bestselling author and Hall of Fame player Ken Dryden. Ken shares the unparalleled life story of the greatest coach in hockey history\, Scotty Bowman\, in his latest book\, Scotty: A Hockey Life Like No Other \nKen will be in conversation with bestselling author and Chronicle Herald columnist John DeMont. \nBooks will be available for purchase. \nLocation: Paul O’Regan Hall \n
URL:https://fx1019.ca/event/ken-dryden-in-halifax/
END:VEVENT
END:VCALENDAR