BEGIN:VCALENDAR
VERSION:2.0
PRODID:-//FX101.9 - ECPv4.6.26//NONSGML v1.0//EN
CALSCALE:GREGORIAN
METHOD:PUBLISH
X-WR-CALNAME:FX101.9
X-ORIGINAL-URL:https://fx1019.ca
X-WR-CALDESC:Events for FX101.9
BEGIN:VEVENT
DTSTART;TZID=America/Halifax:20171112T100000
DTEND;TZID=America/Halifax:20171112T140000
DTSTAMP:20260420T135410
CREATED:20171031T135831Z
LAST-MODIFIED:20171031T135831Z
UID:6012-1510480800-1510495200@fx1019.ca
SUMMARY:Kris Kringle Craft Show and Pancake Breakfast
DESCRIPTION:Kris Kringle Craft Show and Pancake Breakfast\nNorth Woodside Community Centre. 230 Pleasant Street\, Dartmouth\, NS\nSunday November 12th\, 2017\n10:00 am – 2:00 pm. Pancake Breakfast from 10:00 am – 1:00 pm\nCost $5.00 for Breakfast and Craft Show; $2.00 for Craft Show only \n
URL:https://fx1019.ca/event/kris-kringle-craft-show-and-pancake-breakfast/
END:VEVENT
END:VCALENDAR