BEGIN:VCALENDAR
VERSION:2.0
PRODID:-//FX101.9 - ECPv4.6.26//NONSGML v1.0//EN
CALSCALE:GREGORIAN
METHOD:PUBLISH
X-WR-CALNAME:FX101.9
X-ORIGINAL-URL:https://fx1019.ca
X-WR-CALDESC:Events for FX101.9
BEGIN:VEVENT
DTSTART;TZID=America/Halifax:20171021T183000
DTEND;TZID=America/Halifax:20171022T000000
DTSTAMP:20260425T190232
CREATED:20170720T180504Z
LAST-MODIFIED:20170720T180504Z
UID:5267-1508610600-1508630400@fx1019.ca
SUMMARY:Laing House Masquerade Ball\, An Evening of Elegance and Intrigue
DESCRIPTION:Saturday\, October 21st\, 2017: 6.30 pm – 12 am\n@ the Cunard Centre\, Halifax \nLose yourself in the ethereal layers of the night as we explore what lays behind the mask at the Laing House Masquerade Ball\, An Evening of Elegance & Intrigue. \nBuy tickets here: http://ball.lainghouse.org/masquerade-ball/masquerade-ball-tickets.html \n
URL:https://fx1019.ca/event/laing-house-masquerade-ball-an-evening-of-elegance-and-intrigue/
END:VEVENT
END:VCALENDAR