BEGIN:VCALENDAR
VERSION:2.0
PRODID:-//FX101.9 - ECPv4.6.26//NONSGML v1.0//EN
CALSCALE:GREGORIAN
METHOD:PUBLISH
X-WR-CALNAME:FX101.9
X-ORIGINAL-URL:https://fx1019.ca
X-WR-CALDESC:Events for FX101.9
BEGIN:VEVENT
DTSTART;TZID=America/Halifax:20171020T190000
DTEND;TZID=America/Halifax:20171020T230000
DTSTAMP:20260420T134938
CREATED:20171005T191154Z
LAST-MODIFIED:20171005T191154Z
UID:5838-1508526000-1508540400@fx1019.ca
SUMMARY:Lip Sync Battle & Auction
DESCRIPTION:Join us for a fun auction and a stellar lip sync battle which will have you on your feet! \nAll in support of families affected by a neuromuscular disorder. \n$30 or $240 for a reserved table of 8 \nCall 902-429-6322 ext 4102 to purchase your tickets soon- last year’s event was a complete sell out. \nClick here to purchase your tickets online https://muscle.akaraisin.com/lipsyncbattle \n
URL:https://fx1019.ca/event/lip-sync-battle-auction/
END:VEVENT
END:VCALENDAR