BEGIN:VCALENDAR
VERSION:2.0
PRODID:-//FX101.9 - ECPv4.6.26//NONSGML v1.0//EN
CALSCALE:GREGORIAN
METHOD:PUBLISH
X-WR-CALNAME:FX101.9
X-ORIGINAL-URL:https://fx1019.ca
X-WR-CALDESC:Events for FX101.9
BEGIN:VEVENT
DTSTART;VALUE=DATE:20190609
DTEND;VALUE=DATE:20190610
DTSTAMP:20260424T155420
CREATED:20190605T222134Z
LAST-MODIFIED:20190605T222134Z
UID:9191-1560038400-1560124799@fx1019.ca
SUMMARY:MacKay Bridge lane closures
DESCRIPTION:Halifax Harbour Bridges says one lane will be closed in each direction from 7 a.m. to 4:30 p.m. on Sunday\, June 9. \n
URL:https://fx1019.ca/event/mackay-bridge-lane-closures/
END:VEVENT
END:VCALENDAR