BEGIN:VCALENDAR
VERSION:2.0
PRODID:-//FX101.9 - ECPv4.6.26//NONSGML v1.0//EN
CALSCALE:GREGORIAN
METHOD:PUBLISH
X-WR-CALNAME:FX101.9
X-ORIGINAL-URL:https://fx1019.ca
X-WR-CALDESC:Events for FX101.9
BEGIN:VEVENT
DTSTART;VALUE=DATE:20190312
DTEND;VALUE=DATE:20190317
DTSTAMP:20260421T114208
CREATED:20190228T201220Z
LAST-MODIFIED:20190228T201220Z
UID:7971-1552348800-1552780799@fx1019.ca
SUMMARY:March Break
DESCRIPTION:
URL:https://fx1019.ca/event/march-break/
END:VEVENT
END:VCALENDAR