BEGIN:VCALENDAR
VERSION:2.0
PRODID:-//FX101.9 - ECPv4.6.26//NONSGML v1.0//EN
CALSCALE:GREGORIAN
METHOD:PUBLISH
X-WR-CALNAME:FX101.9
X-ORIGINAL-URL:https://fx1019.ca
X-WR-CALDESC:Events for FX101.9
BEGIN:VEVENT
DTSTART;VALUE=DATE:20190816
DTEND;VALUE=DATE:20190817
DTSTAMP:20260421T154137
CREATED:20190527T222352Z
LAST-MODIFIED:20190527T222352Z
UID:9028-1565913600-1565999999@fx1019.ca
SUMMARY:New album from Tracy Lawrence
DESCRIPTION:Tracy Lawrence : forthcoming new album Made in America\, out Aug. 16. Lawrence revealed that he co-wrote eight of the album’s 12 songs. \n
URL:https://fx1019.ca/event/new-album-from-tracy-lawrence/
END:VEVENT
END:VCALENDAR