BEGIN:VCALENDAR
VERSION:2.0
PRODID:-//FX101.9 - ECPv4.6.26//NONSGML v1.0//EN
CALSCALE:GREGORIAN
METHOD:PUBLISH
X-WR-CALNAME:FX101.9
X-ORIGINAL-URL:https://fx1019.ca
X-WR-CALDESC:Events for FX101.9
BEGIN:VEVENT
DTSTART;VALUE=DATE:20191025
DTEND;VALUE=DATE:20191026
DTSTAMP:20260423T063800
CREATED:20190921T204925Z
LAST-MODIFIED:20190921T204925Z
UID:10038-1571961600-1572047999@fx1019.ca
SUMMARY:New Old Dominion album
DESCRIPTION:Here’s the full track listing for the self-titled  Old Dominion \, which comes out October 25:  “Make It Sweet” “Smooth Sailing” “One Man Band” “Never Be Sorry” “My Heart Is a Bar” “Midnight Mess Around” “Do It with Me” “Hear You Now” “I’ll Roll” “American Style” “Paint the Grass Green” “Some People Do” \n \n
URL:https://fx1019.ca/event/new-old-dominion-album-2/
END:VEVENT
END:VCALENDAR