BEGIN:VCALENDAR
VERSION:2.0
PRODID:-//FX101.9 - ECPv4.6.26//NONSGML v1.0//EN
CALSCALE:GREGORIAN
METHOD:PUBLISH
X-WR-CALNAME:FX101.9
X-ORIGINAL-URL:https://fx1019.ca
X-WR-CALDESC:Events for FX101.9
BEGIN:VEVENT
DTSTART;VALUE=DATE:20190818
DTEND;VALUE=DATE:20190819
DTSTAMP:20260422T103136
CREATED:20190817T014034Z
LAST-MODIFIED:20190817T014034Z
UID:9763-1566086400-1566172799@fx1019.ca
SUMMARY:Overnight bridge closure
DESCRIPTION:The Macdonald Bridge will be closed the following nights to replace an expansion joint on the Dartmouth side of the bridge. Once complete\, the traffic plate covering the expansion joint will be gone. \n\n7:00pm to 5:30am Monday\, August 19\n7:00pm to 5:30am Monday\, August 26\n7:00pm to 5:30am Tuesday\, August 27\n\n
URL:https://fx1019.ca/event/overnight-bridge-closure/
END:VEVENT
END:VCALENDAR