BEGIN:VCALENDAR
VERSION:2.0
PRODID:-//FX101.9 - ECPv4.6.26//NONSGML v1.0//EN
CALSCALE:GREGORIAN
METHOD:PUBLISH
X-WR-CALNAME:FX101.9
X-ORIGINAL-URL:https://fx1019.ca
X-WR-CALDESC:Events for FX101.9
BEGIN:VEVENT
DTSTART;VALUE=DATE:20190516
DTEND;VALUE=DATE:20190517
DTSTAMP:20260424T032127
CREATED:20190514T174618Z
LAST-MODIFIED:20190514T174618Z
UID:8876-1557964800-1558051199@fx1019.ca
SUMMARY:Police Week Open House
DESCRIPTION:Fifth Annual Police Week RCMP Open House\, May​ 16 \nGet an up-close look at patrol vehicles\, an Explosive Disposals Unit robot and meet a police dog. There will be something for the entire family\, including a free BBQ and a performance from the RCMP Pipes and Drums Band. Members with the following units will be there to provide information and demonstrations on some of the special equipment they use: \n\n​ ​ ​ ​ ​ ​ ​ ​Police Dog Services\n​ ​ ​ ​ ​ ​ ​ ​Community\, Indigenous\, Diversity Policing Services\n​ ​ ​ ​ ​ ​ ​ ​Emergency Response Team\n​ ​ ​ ​ ​ ​ ​ ​Underwater Recovery Team\n​ ​ ​ ​ ​ ​ ​ ​Crime Stoppers\n​ ​ ​ ​ ​ ​ ​ ​RCMP Veterans Association\n​ ​ ​ ​ ​ ​ ​ ​RCMP Explosive Unit\n​ ​ ​ ​ ​ ​ ​ ​Technical Crime Unit\n​ ​ ​ ​ ​ ​ ​ ​TAC Troop\n​ ​ ​ ​ ​ ​ ​ ​RCMP Pipes and Drums Band\n​ ​ ​ ​ ​ ​ ​ ​Federal & Serious Organized Crime\n​ ​ ​ ​ ​ ​ ​ ​Truth Verification Section\n​ ​ ​ ​ ​ ​ ​ ​Recruiting\n​ ​ ​ ​ ​ ​ ​ ​Traffic Services\n​ ​ ​ ​ ​ ​ ​ ​Training Section\n​ ​ ​ ​ ​ ​ ​ ​Stetson and Spurs Youth Program\n\n​May​ 16\,​ 4​ p.m. –​ 8​ p.m. \nRCMP Nova Scotia Headquarters\n80​ Garland Ave.\nDartmouth\, Nova Scotia \n
URL:https://fx1019.ca/event/police-week-open-house/
END:VEVENT
END:VCALENDAR