BEGIN:VCALENDAR
VERSION:2.0
PRODID:-//FX101.9 - ECPv4.6.26//NONSGML v1.0//EN
CALSCALE:GREGORIAN
METHOD:PUBLISH
X-WR-CALNAME:FX101.9
X-ORIGINAL-URL:https://fx1019.ca
X-WR-CALDESC:Events for FX101.9
BEGIN:VEVENT
DTSTART;VALUE=DATE:20191129
DTEND;VALUE=DATE:20191130
DTSTAMP:20260421T115627
CREATED:20191105T232631Z
LAST-MODIFIED:20191105T232631Z
UID:10380-1574985600-1575071999@fx1019.ca
SUMMARY:Sackville Christmas Tree Lighting
DESCRIPTION:Sackville Christmas Tree Lighting\nFriday\, November 29th\, 2019\n6:30 pm-7:30 pm\nAcadia Park\, 650 Sackville Drive \nLive music\, free hot chocolate\, cookies\, and hot dogs. A visit from Santa plus the lighting of the Christmas tree. \nInfo : contact Michelle Champniss at 902-252-3099 or info@sackvillebusiness.com \n
URL:https://fx1019.ca/event/sackville-christmas-tree-lighting-2/
END:VEVENT
END:VCALENDAR