BEGIN:VCALENDAR
VERSION:2.0
PRODID:-//FX101.9 - ECPv4.6.26//NONSGML v1.0//EN
CALSCALE:GREGORIAN
METHOD:PUBLISH
X-WR-CALNAME:FX101.9
X-ORIGINAL-URL:https://fx1019.ca
X-WR-CALDESC:Events for FX101.9
BEGIN:VEVENT
DTSTART;VALUE=DATE:20170318
DTEND;VALUE=DATE:20170319
DTSTAMP:20260421T002433
CREATED:20170208T184357Z
LAST-MODIFIED:20170208T184357Z
UID:3811-1489795200-1489881599@fx1019.ca
SUMMARY:Saint Paddy’s Dance
DESCRIPTION:Saint Paddy’s Dance (19+) North Woodside Community Centre. 230 Pleasant Street\, Dartmouth\, NS Saturday March 18th 8:00 – 11:00 pm Tickets $7.50 per person Door prizes drawn throughout the night Snack and Limited Beverage Bar (beer\, coolers) on site Tickets on sale NOW! 902-463-9276 eventsnwcc@bellaliant.net \n
URL:https://fx1019.ca/event/saint-paddys-dance/
END:VEVENT
END:VCALENDAR