BEGIN:VCALENDAR
VERSION:2.0
PRODID:-//FX101.9 - ECPv4.6.26//NONSGML v1.0//EN
CALSCALE:GREGORIAN
METHOD:PUBLISH
X-WR-CALNAME:FX101.9
X-ORIGINAL-URL:https://fx1019.ca
X-WR-CALDESC:Events for FX101.9
BEGIN:VEVENT
DTSTART;TZID=America/Halifax:20230612T193000
DTEND;TZID=America/Halifax:20230612T193000
DTSTAMP:20260421T133635
CREATED:20230525T161453Z
LAST-MODIFIED:20230525T161453Z
UID:15998-1686598200-1686598200@fx1019.ca
SUMMARY:Shania Twain - Queen of Me Tour
DESCRIPTION:
URL:https://fx1019.ca/event/shania-twain-queen-of-me-tour/
LOCATION:Scotiabank Centre\, 1800 Argyle St\, Halifax\, Nova Scotia\, B3J 2V9\, Canada
GEO:44.6483451;-63.5765154
X-APPLE-STRUCTURED-LOCATION;VALUE=URI;X-ADDRESS=Scotiabank Centre 1800 Argyle St Halifax Nova Scotia B3J 2V9 Canada;X-APPLE-RADIUS=500;X-TITLE=1800 Argyle St:geo:-63.5765154,44.6483451
ATTACH;FMTTYPE=image/jpeg:https://fx1019.ca/wp-content/uploads/sites/3/2023/05/splash.jpg
END:VEVENT
END:VCALENDAR